{"text_format":"3","workbook":"xlsx","n_sheets":4,"sheets":["題目","患者情報","選択項目","ExcelOption"],"not_rendered":{"images":36,"macros":1,"defined_names":1},"read":"whole","date_system":"1900"}

{"sheet":"題目","index":0,"n_rows":60,"n_cols":1715,"rows_kept":60,"merged":[[0,1704,0,1713],[1,1704,1,1713],[2,1704,2,1713],[8,0,9,96],[10,0,10,96],[12,77,13,96],[15,9,15,14],[15,15,15,34],[16,0,17,9],[16,10,17,14],[16,15,17,34],[16,36,17,43],[16,44,17,63],[16,69,17,76],[16,77,17,96],[20,1,20,25],[23,39,23,76],[26,6,27,16],[26,21,28,96],[28,6,28,10],[29,10,33,20],[30,23,30,32],[30,35,30,44],[30,47,30,56],[30,59,30,68],[30,71,30,80],[32,23,32,27],[32,31,32,75],[34,3,38,7],[34,10,38,20],[35,23,35,32],[35,35,35,44],[35,47,35,56],[35,59,35,68],[37,23,37,27],[37,31,37,75],[39,10,43,20],[40,23,40,32],[40,35,40,44],[40,47,40,56],[40,59,40,68],[42,23,42,27],[42,31,42,75],[45,3,45,20],[45,23,45,32],[45,35,45,44],[45,47,45,56],[45,59,45,68],[45,71,45,80],[47,23,47,27],[47,31,47,75],[50,3,50,20],[50,23,50,32],[50,35,50,44],[50,47,50,56],[52,23,52,27],[52,31,52,75],[55,3,55,20],[55,23,55,32],[55,35,55,47],[55,50,55,59],[55,62,55,71],[55,74,55,83],[57,23,57,27],[57,31,57,75]]}
[{"$nulls":30},"2025-06-10","2025-04-17",{"$nulls":1672},"2016-04-01",{"$nulls":9},"から"]
[{"$nulls":30},"2025-06-10","2025-04-17",{"$nulls":1681},"2016-04-01","までのｵｰﾀﾞｰを引用"]
[{"$nulls":30},"2025-06-10","2025-04-17",{"$nulls":1681},"2016-04-01","ﾘﾊﾋﾞﾘ総合計画評価 作成日"]
[]
[]
[]
[]
[{"$nulls":131},"フリガナ",{"$nulls":6},{"$f":"IF(患者情報!B5=\"\",\"\",患者情報!B5)","v":""}]
["心不全薬連携シート"]
[{"$nulls":131},"患者氏名",{"$nulls":6},{"$f":"IF(患者情報!B2=\"\",\"\",患者情報!B2)","v":""}]
["（※循環器同士の紹介時のみ添付してください）"]
[{"$nulls":131},"生年月日",{"$nulls":6},{"$f":"IF(患者情報!B6=\"\",\"\",患者情報!B6)","v":""}]
[{"$nulls":77},{"$f":"IF(患者情報!B13=\"\",\"\",患者情報!B13)","v":""},{"$f":"IF(#REF!=\"\",\"\",#REF!)","v":{"$error":"#REF!"}},{"$f":"IF(#REF!=\"\",\"\",#REF!)","v":{"$error":"#REF!"}},{"$f":"IF(#REF!=\"\",\"\",#REF!)","v":{"$error":"#REF!"}},{"$f":"IF(#REF!=\"\",\"\",#REF!)","v":{"$error":"#REF!"}},{"$f":"IF(#REF!=\"\",\"\",#REF!)","v":{"$error":"#REF!"}},{"$f":"IF(#REF!=\"\",\"\",#REF!)","v":{"$error":"#REF!"}},{"$f":"IF(#REF!=\"\",\"\",#REF!)","v":{"$error":"#REF!"}},{"$f":"IF(#REF!=\"\",\"\",#REF!)","v":{"$error":"#REF!"}},{"$f":"IF(#REF!=\"\",\"\",#REF!)","v":{"$error":"#REF!"}},{"$f":"IF(#REF!=\"\",\"\",#REF!)","v":{"$error":"#REF!"}},{"$f":"IF(#REF!=\"\",\"\",#REF!)","v":{"$error":"#REF!"}},{"$f":"IF(#REF!=\"\",\"\",#REF!)","v":{"$error":"#REF!"}},{"$f":"IF(#REF!=\"\",\"\",#REF!)","v":{"$error":"#REF!"}},{"$f":"IF(#REF!=\"\",\"\",#REF!)","v":{"$error":"#REF!"}},{"$f":"IF(#REF!=\"\",\"\",#REF!)","v":{"$error":"#REF!"}},{"$f":"IF(#REF!=\"\",\"\",#REF!)","v":{"$error":"#REF!"}},{"$f":"IF(#REF!=\"\",\"\",#REF!)","v":{"$error":"#REF!"}},{"$f":"IF(#REF!=\"\",\"\",#REF!)","v":{"$error":"#REF!"}},{"$f":"IF(#REF!=\"\",\"\",#REF!)","v":{"$error":"#REF!"}}]
[{"$nulls":77},{"$f":"IF(#REF!=\"\",\"\",#REF!)","v":{"$error":"#REF!"}},{"$f":"IF(#REF!=\"\",\"\",#REF!)","v":{"$error":"#REF!"}},{"$f":"IF(#REF!=\"\",\"\",#REF!)","v":{"$error":"#REF!"}},{"$f":"IF(#REF!=\"\",\"\",#REF!)","v":{"$error":"#REF!"}},{"$f":"IF(#REF!=\"\",\"\",#REF!)","v":{"$error":"#REF!"}},{"$f":"IF(#REF!=\"\",\"\",#REF!)","v":{"$error":"#REF!"}},{"$f":"IF(#REF!=\"\",\"\",#REF!)","v":{"$error":"#REF!"}},{"$f":"IF(#REF!=\"\",\"\",#REF!)","v":{"$error":"#REF!"}},{"$f":"IF(#REF!=\"\",\"\",#REF!)","v":{"$error":"#REF!"}},{"$f":"IF(#REF!=\"\",\"\",#REF!)","v":{"$error":"#REF!"}},{"$f":"IF(#REF!=\"\",\"\",#REF!)","v":{"$error":"#REF!"}},{"$f":"IF(#REF!=\"\",\"\",#REF!)","v":{"$error":"#REF!"}},{"$f":"IF(#REF!=\"\",\"\",#REF!)","v":{"$error":"#REF!"}},{"$f":"IF(#REF!=\"\",\"\",#REF!)","v":{"$error":"#REF!"}},{"$f":"IF(#REF!=\"\",\"\",#REF!)","v":{"$error":"#REF!"}},{"$f":"IF(#REF!=\"\",\"\",#REF!)","v":{"$error":"#REF!"}},{"$f":"IF(#REF!=\"\",\"\",#REF!)","v":{"$error":"#REF!"}},{"$f":"IF(#REF!=\"\",\"\",#REF!)","v":{"$error":"#REF!"}},{"$f":"IF(#REF!=\"\",\"\",#REF!)","v":{"$error":"#REF!"}},{"$f":"IF(#REF!=\"\",\"\",#REF!)","v":{"$error":"#REF!"}}]
[]
[{"$nulls":9},"フリガナ",{"$nulls":5},{"$f":"IF(患者情報!B5=\"\",\"\",患者情報!B5)","v":""},{"$f":"IF(#REF!=\"\",\"\",#REF!)","v":{"$error":"#REF!"}},{"$f":"IF(#REF!=\"\",\"\",#REF!)","v":{"$error":"#REF!"}},{"$f":"IF(#REF!=\"\",\"\",#REF!)","v":{"$error":"#REF!"}},{"$f":"IF(#REF!=\"\",\"\",#REF!)","v":{"$error":"#REF!"}},{"$f":"IF(#REF!=\"\",\"\",#REF!)","v":{"$error":"#REF!"}},{"$f":"IF(#REF!=\"\",\"\",#REF!)","v":{"$error":"#REF!"}},{"$f":"IF(#REF!=\"\",\"\",#REF!)","v":{"$error":"#REF!"}},{"$f":"IF(#REF!=\"\",\"\",#REF!)","v":{"$error":"#REF!"}},{"$f":"IF(#REF!=\"\",\"\",#REF!)","v":{"$error":"#REF!"}},{"$f":"IF(#REF!=\"\",\"\",#REF!)","v":{"$error":"#REF!"}},{"$f":"IF(#REF!=\"\",\"\",#REF!)","v":{"$error":"#REF!"}},{"$f":"IF(#REF!=\"\",\"\",#REF!)","v":{"$error":"#REF!"}},{"$f":"IF(#REF!=\"\",\"\",#REF!)","v":{"$error":"#REF!"}},{"$f":"IF(#REF!=\"\",\"\",#REF!)","v":{"$error":"#REF!"}},{"$f":"IF(#REF!=\"\",\"\",#REF!)","v":{"$error":"#REF!"}},{"$f":"IF(#REF!=\"\",\"\",#REF!)","v":{"$error":"#REF!"}},{"$f":"IF(#REF!=\"\",\"\",#REF!)","v":{"$error":"#REF!"}},{"$f":"IF(#REF!=\"\",\"\",#REF!)","v":{"$error":"#REF!"}},{"$f":"IF(#REF!=\"\",\"\",#REF!)","v":{"$error":"#REF!"}},{"$nulls":97},"年月日",{"$nulls":5},{"$f":"IF(患者情報!B13=\"\",\"\",患者情報!B13)","v":""}]
["【患者情報】",{"$nulls":9},"氏名",{"$nulls":4},{"$f":"IF(患者情報!B2=\"\",\"\",患者情報!B2)","v":""},{"$f":"IF(#REF!=\"\",\"\",#REF!)","v":{"$error":"#REF!"}},{"$f":"IF(#REF!=\"\",\"\",#REF!)","v":{"$error":"#REF!"}},{"$f":"IF(#REF!=\"\",\"\",#REF!)","v":{"$error":"#REF!"}},{"$f":"IF(#REF!=\"\",\"\",#REF!)","v":{"$error":"#REF!"}},{"$f":"IF(#REF!=\"\",\"\",#REF!)","v":{"$error":"#REF!"}},{"$f":"IF(#REF!=\"\",\"\",#REF!)","v":{"$error":"#REF!"}},{"$f":"IF(#REF!=\"\",\"\",#REF!)","v":{"$error":"#REF!"}},{"$f":"IF(#REF!=\"\",\"\",#REF!)","v":{"$error":"#REF!"}},{"$f":"IF(#REF!=\"\",\"\",#REF!)","v":{"$error":"#REF!"}},{"$f":"IF(#REF!=\"\",\"\",#REF!)","v":{"$error":"#REF!"}},{"$f":"IF(#REF!=\"\",\"\",#REF!)","v":{"$error":"#REF!"}},{"$f":"IF(#REF!=\"\",\"\",#REF!)","v":{"$error":"#REF!"}},{"$f":"IF(#REF!=\"\",\"\",#REF!)","v":{"$error":"#REF!"}},{"$f":"IF(#REF!=\"\",\"\",#REF!)","v":{"$error":"#REF!"}},{"$f":"IF(#REF!=\"\",\"\",#REF!)","v":{"$error":"#REF!"}},{"$f":"IF(#REF!=\"\",\"\",#REF!)","v":{"$error":"#REF!"}},{"$f":"IF(#REF!=\"\",\"\",#REF!)","v":{"$error":"#REF!"}},{"$f":"IF(#REF!=\"\",\"\",#REF!)","v":{"$error":"#REF!"}},{"$f":"IF(#REF!=\"\",\"\",#REF!)","v":{"$error":"#REF!"}},null,"生年月日",{"$nulls":7},{"$f":"IF(患者情報!B6=\"\",\"\",患者情報!B6)","v":""},{"$f":"IF(#REF!=\"\",\"\",#REF!)","v":{"$error":"#REF!"}},{"$f":"IF(#REF!=\"\",\"\",#REF!)","v":{"$error":"#REF!"}},{"$f":"IF(#REF!=\"\",\"\",#REF!)","v":{"$error":"#REF!"}},{"$f":"IF(#REF!=\"\",\"\",#REF!)","v":{"$error":"#REF!"}},{"$f":"IF(#REF!=\"\",\"\",#REF!)","v":{"$error":"#REF!"}},{"$f":"IF(#REF!=\"\",\"\",#REF!)","v":{"$error":"#REF!"}},{"$f":"IF(#REF!=\"\",\"\",#REF!)","v":{"$error":"#REF!"}},{"$f":"IF(#REF!=\"\",\"\",#REF!)","v":{"$error":"#REF!"}},{"$f":"IF(#REF!=\"\",\"\",#REF!)","v":{"$error":"#REF!"}},{"$f":"IF(#REF!=\"\",\"\",#REF!)","v":{"$error":"#REF!"}},{"$f":"IF(#REF!=\"\",\"\",#REF!)","v":{"$error":"#REF!"}},{"$f":"IF(#REF!=\"\",\"\",#REF!)","v":{"$error":"#REF!"}},{"$f":"IF(#REF!=\"\",\"\",#REF!)","v":{"$error":"#REF!"}},{"$f":"IF(#REF!=\"\",\"\",#REF!)","v":{"$error":"#REF!"}},{"$f":"IF(#REF!=\"\",\"\",#REF!)","v":{"$error":"#REF!"}},{"$f":"IF(#REF!=\"\",\"\",#REF!)","v":{"$error":"#REF!"}},{"$f":"IF(#REF!=\"\",\"\",#REF!)","v":{"$error":"#REF!"}},{"$f":"IF(#REF!=\"\",\"\",#REF!)","v":{"$error":"#REF!"}},{"$f":"IF(#REF!=\"\",\"\",#REF!)","v":{"$error":"#REF!"}},{"$nulls":5},"【担当医】",{"$nulls":7},{"$f":"IF(患者情報!B14=\"\",\"\",患者情報!B14)","v":""},{"$f":"IF(#REF!=\"\",\"\",#REF!)","v":{"$error":"#REF!"}},{"$f":"IF(#REF!=\"\",\"\",#REF!)","v":{"$error":"#REF!"}},{"$f":"IF(#REF!=\"\",\"\",#REF!)","v":{"$error":"#REF!"}},{"$f":"IF(#REF!=\"\",\"\",#REF!)","v":{"$error":"#REF!"}},{"$f":"IF(#REF!=\"\",\"\",#REF!)","v":{"$error":"#REF!"}},{"$f":"IF(#REF!=\"\",\"\",#REF!)","v":{"$error":"#REF!"}},{"$f":"IF(#REF!=\"\",\"\",#REF!)","v":{"$error":"#REF!"}},{"$f":"IF(#REF!=\"\",\"\",#REF!)","v":{"$error":"#REF!"}},{"$f":"IF(#REF!=\"\",\"\",#REF!)","v":{"$error":"#REF!"}},{"$f":"IF(#REF!=\"\",\"\",#REF!)","v":{"$error":"#REF!"}},{"$f":"IF(#REF!=\"\",\"\",#REF!)","v":{"$error":"#REF!"}},{"$f":"IF(#REF!=\"\",\"\",#REF!)","v":{"$error":"#REF!"}},{"$f":"IF(#REF!=\"\",\"\",#REF!)","v":{"$error":"#REF!"}},{"$f":"IF(#REF!=\"\",\"\",#REF!)","v":{"$error":"#REF!"}},{"$f":"IF(#REF!=\"\",\"\",#REF!)","v":{"$error":"#REF!"}},{"$f":"IF(#REF!=\"\",\"\",#REF!)","v":{"$error":"#REF!"}},{"$f":"IF(#REF!=\"\",\"\",#REF!)","v":{"$error":"#REF!"}},{"$f":"IF(#REF!=\"\",\"\",#REF!)","v":{"$error":"#REF!"}},{"$f":"IF(#REF!=\"\",\"\",#REF!)","v":{"$error":"#REF!"}}]
[{"$nulls":15},{"$f":"IF(#REF!=\"\",\"\",#REF!)","v":{"$error":"#REF!"}},{"$f":"IF(#REF!=\"\",\"\",#REF!)","v":{"$error":"#REF!"}},{"$f":"IF(#REF!=\"\",\"\",#REF!)","v":{"$error":"#REF!"}},{"$f":"IF(#REF!=\"\",\"\",#REF!)","v":{"$error":"#REF!"}},{"$f":"IF(#REF!=\"\",\"\",#REF!)","v":{"$error":"#REF!"}},{"$f":"IF(#REF!=\"\",\"\",#REF!)","v":{"$error":"#REF!"}},{"$f":"IF(#REF!=\"\",\"\",#REF!)","v":{"$error":"#REF!"}},{"$f":"IF(#REF!=\"\",\"\",#REF!)","v":{"$error":"#REF!"}},{"$f":"IF(#REF!=\"\",\"\",#REF!)","v":{"$error":"#REF!"}},{"$f":"IF(#REF!=\"\",\"\",#REF!)","v":{"$error":"#REF!"}},{"$f":"IF(#REF!=\"\",\"\",#REF!)","v":{"$error":"#REF!"}},{"$f":"IF(#REF!=\"\",\"\",#REF!)","v":{"$error":"#REF!"}},{"$f":"IF(#REF!=\"\",\"\",#REF!)","v":{"$error":"#REF!"}},{"$f":"IF(#REF!=\"\",\"\",#REF!)","v":{"$error":"#REF!"}},{"$f":"IF(#REF!=\"\",\"\",#REF!)","v":{"$error":"#REF!"}},{"$f":"IF(#REF!=\"\",\"\",#REF!)","v":{"$error":"#REF!"}},{"$f":"IF(#REF!=\"\",\"\",#REF!)","v":{"$error":"#REF!"}},{"$f":"IF(#REF!=\"\",\"\",#REF!)","v":{"$error":"#REF!"}},{"$f":"IF(#REF!=\"\",\"\",#REF!)","v":{"$error":"#REF!"}},{"$f":"IF(#REF!=\"\",\"\",#REF!)","v":{"$error":"#REF!"}},{"$nulls":9},{"$f":"IF(#REF!=\"\",\"\",#REF!)","v":{"$error":"#REF!"}},{"$f":"IF(#REF!=\"\",\"\",#REF!)","v":{"$error":"#REF!"}},{"$f":"IF(#REF!=\"\",\"\",#REF!)","v":{"$error":"#REF!"}},{"$f":"IF(#REF!=\"\",\"\",#REF!)","v":{"$error":"#REF!"}},{"$f":"IF(#REF!=\"\",\"\",#REF!)","v":{"$error":"#REF!"}},{"$f":"IF(#REF!=\"\",\"\",#REF!)","v":{"$error":"#REF!"}},{"$f":"IF(#REF!=\"\",\"\",#REF!)","v":{"$error":"#REF!"}},{"$f":"IF(#REF!=\"\",\"\",#REF!)","v":{"$error":"#REF!"}},{"$f":"IF(#REF!=\"\",\"\",#REF!)","v":{"$error":"#REF!"}},{"$f":"IF(#REF!=\"\",\"\",#REF!)","v":{"$error":"#REF!"}},{"$f":"IF(#REF!=\"\",\"\",#REF!)","v":{"$error":"#REF!"}},{"$f":"IF(#REF!=\"\",\"\",#REF!)","v":{"$error":"#REF!"}},{"$f":"IF(#REF!=\"\",\"\",#REF!)","v":{"$error":"#REF!"}},{"$f":"IF(#REF!=\"\",\"\",#REF!)","v":{"$error":"#REF!"}},{"$f":"IF(#REF!=\"\",\"\",#REF!)","v":{"$error":"#REF!"}},{"$f":"IF(#REF!=\"\",\"\",#REF!)","v":{"$error":"#REF!"}},{"$f":"IF(#REF!=\"\",\"\",#REF!)","v":{"$error":"#REF!"}},{"$f":"IF(#REF!=\"\",\"\",#REF!)","v":{"$error":"#REF!"}},{"$f":"IF(#REF!=\"\",\"\",#REF!)","v":{"$error":"#REF!"}},{"$f":"IF(#REF!=\"\",\"\",#REF!)","v":{"$error":"#REF!"}},{"$nulls":13},{"$f":"IF(#REF!=\"\",\"\",#REF!)","v":{"$error":"#REF!"}},{"$f":"IF(#REF!=\"\",\"\",#REF!)","v":{"$error":"#REF!"}},{"$f":"IF(#REF!=\"\",\"\",#REF!)","v":{"$error":"#REF!"}},{"$f":"IF(#REF!=\"\",\"\",#REF!)","v":{"$error":"#REF!"}},{"$f":"IF(#REF!=\"\",\"\",#REF!)","v":{"$error":"#REF!"}},{"$f":"IF(#REF!=\"\",\"\",#REF!)","v":{"$error":"#REF!"}},{"$f":"IF(#REF!=\"\",\"\",#REF!)","v":{"$error":"#REF!"}},{"$f":"IF(#REF!=\"\",\"\",#REF!)","v":{"$error":"#REF!"}},{"$f":"IF(#REF!=\"\",\"\",#REF!)","v":{"$error":"#REF!"}},{"$f":"IF(#REF!=\"\",\"\",#REF!)","v":{"$error":"#REF!"}},{"$f":"IF(#REF!=\"\",\"\",#REF!)","v":{"$error":"#REF!"}},{"$f":"IF(#REF!=\"\",\"\",#REF!)","v":{"$error":"#REF!"}},{"$f":"IF(#REF!=\"\",\"\",#REF!)","v":{"$error":"#REF!"}},{"$f":"IF(#REF!=\"\",\"\",#REF!)","v":{"$error":"#REF!"}},{"$f":"IF(#REF!=\"\",\"\",#REF!)","v":{"$error":"#REF!"}},{"$f":"IF(#REF!=\"\",\"\",#REF!)","v":{"$error":"#REF!"}},{"$f":"IF(#REF!=\"\",\"\",#REF!)","v":{"$error":"#REF!"}},{"$f":"IF(#REF!=\"\",\"\",#REF!)","v":{"$error":"#REF!"}},{"$f":"IF(#REF!=\"\",\"\",#REF!)","v":{"$error":"#REF!"}},{"$f":"IF(#REF!=\"\",\"\",#REF!)","v":{"$error":"#REF!"}}]
[{"$nulls":131},"担当医師",{"$nulls":6},{"$f":"IF(患者情報!B14=\"\",\"\",患者情報!B14)","v":""}]
[]
[null,"当患者のLVEFによる心不全分類 ：",{"$nulls":26},"HFrEF",{"$nulls":8},"（",null,"40％以下",{"$nulls":6},"）"]
[{"$nulls":28},"HFmrEF",{"$nulls":8},"（",null,"41～49％",{"$nulls":6},"）"]
[{"$nulls":28},"HFpEF",{"$nulls":8},"（",null,"50％以上",{"$nulls":6},"）"]
[{"$nulls":28},"HFimpEF",{"$nulls":8},"（",null,"初回40％以下かつ経過で10％以上改善し40％を超える",{"$nulls":37},"）"]
[]
[]
[{"$nulls":6},"投与状況",{"$nulls":14},"導入できなかった理由"]
[]
[{"$nulls":6},"（投与中",{"$nulls":4},"：",{"$nulls":3},"）"]
[{"$nulls":10},"ACE阻害薬"]
[{"$nulls":23},"低血圧",{"$nulls":11},"腎機能障害",{"$nulls":11},"空咳",{"$nulls":11},"高K血症",{"$nulls":11},"コスト"]
[]
[{"$nulls":23},"その他",{"$nulls":5},"（",{"$nulls":46},"）"]
[]
[{"$nulls":3},"RAS",{"$nulls":6},"ARB"]
[{"$nulls":23},"低血圧",{"$nulls":11},"腎機能障害",{"$nulls":11},"高K血症",{"$nulls":11},"コスト"]
[]
[{"$nulls":23},"その他",{"$nulls":5},"（",{"$nulls":46},"）"]
[]
[{"$nulls":10},"ARNI"]
[{"$nulls":23},"低血圧",{"$nulls":11},"腎機能障害",{"$nulls":11},"高K血症",{"$nulls":11},"コスト"]
[]
[{"$nulls":23},"その他",{"$nulls":5},"（",{"$nulls":46},"）"]
[]
[]
[{"$nulls":3},"β遮断薬",{"$nulls":19},"低血圧",{"$nulls":11},"徐脈",{"$nulls":11},"HFpEF",{"$nulls":11},"HFmrEF",{"$nulls":11},"コスト"]
[]
[{"$nulls":23},"その他",{"$nulls":5},"（",{"$nulls":46},"）"]
[]
[]
[{"$nulls":3},"MRA",{"$nulls":19},"腎機能障害",{"$nulls":11},"高K血症",{"$nulls":11},"コスト"]
[]
[{"$nulls":23},"その他",{"$nulls":5},"（",{"$nulls":46},"）"]
[]
[]
[{"$nulls":3},"SGLT2阻害薬",{"$nulls":19},"腎機能障害",{"$nulls":11},"ケトアシドーシス",{"$nulls":14},"尿路感染症",{"$nulls":11},"サルコペニア",{"$nulls":11},"コスト"]
[]
[{"$nulls":23},"その他",{"$nulls":5},"（",{"$nulls":46},"）"]
[]
["岩手中部心不全ネットワーク"]

{"sheet":"患者情報","index":1,"n_rows":1,"n_cols":1,"rows_kept":1}
["※保存に失敗する可能性がありますので、原本のこのシート上には文字を書き込まないようにして下さい。"]

{"sheet":"選択項目","index":2,"n_rows":13,"n_cols":10,"rows_kept":13}
["曜日→",{"$f":"WEEKDAY(B8)","v":{"$error":"#VALUE!"}}]
["ダイアライザー1→",{"$f":"IF(B1=2,患者情報!C206,\"\")&IF(B1=3,患者情報!C207,\"\")&IF(B1=4,患者情報!C208,\"\")&IF(B1=5,患者情報!C209,\"\")&IF(B1=6,患者情報!C210,\"\")&IF(B1=7,患者情報!C211,\"\")&IF(B1=1,患者情報!C205,\"\")","v":{"$error":"#VALUE!"}},"左記の共通項目→",{"$f":"IF(選択項目!B2=\"\",患者情報!C204,選択項目!B2)","v":{"$error":"#VALUE!"}}]
["ダイアライザー2→",{"$f":"IF(B1=2,患者情報!D206,\"\")&IF(B1=3,患者情報!D207,\"\")&IF(B1=4,患者情報!D208,\"\")&IF(B1=5,患者情報!D209,\"\")&IF(B1=6,患者情報!D210,\"\")&IF(B1=7,患者情報!D211,\"\")&IF(B1=1,患者情報!D205,\"\")","v":{"$error":"#VALUE!"}},"左記の共通項目→",{"$f":"IF(選択項目!B3=\"\",患者情報!D204,選択項目!B3)","v":{"$error":"#VALUE!"}},{"$nulls":4},"文書種類","フォルダID"]
["透析時間→",{"$f":"IF(B1=2,患者情報!B206,\"\")&IF(B1=3,患者情報!B207,\"\")&IF(B1=4,患者情報!B208,\"\")&IF(B1=5,患者情報!B209,\"\")&IF(B1=6,患者情報!B210,\"\")&IF(B1=7,患者情報!B211,\"\")&IF(B1=1,患者情報!B205,\"\")","v":{"$error":"#VALUE!"}},"左記の共通項目→",{"$f":"IF(選択項目!B4=\"\",患者情報!B204,選択項目!B4)","v":{"$error":"#VALUE!"}},{"$nulls":4},2,7]
["血流量→",{"$f":"IF(B1=2,患者情報!J206,\"\")&IF(B1=3,患者情報!J207,\"\")&IF(B1=4,患者情報!J208,\"\")&IF(B1=5,患者情報!J209,\"\")&IF(B1=6,患者情報!J210,\"\")&IF(B1=7,患者情報!J211,\"\")&IF(B1=1,患者情報!J205,\"\")","v":{"$error":"#VALUE!"}},"左記の共通項目→",{"$f":"IF(選択項目!B5=\"\",患者情報!J204,選択項目!B5)","v":{"$error":"#VALUE!"}}]
["穿刺針(A側)→",{"$f":"IF(B1=2,患者情報!L206,\"\")&IF(B1=3,患者情報!L207,\"\")&IF(B1=4,患者情報!L208,\"\")&IF(B1=5,患者情報!L209,\"\")&IF(B1=6,患者情報!L210,\"\")&IF(B1=7,患者情報!L211,\"\")&IF(B1=1,患者情報!L205,\"\")","v":{"$error":"#VALUE!"}},"左記の共通項目→",{"$f":"IF(選択項目!B6=\"\",患者情報!L204,選択項目!B6)","v":{"$error":"#VALUE!"}}]
["穿刺針(Ｖ側)→",{"$f":"IF(B1=2,患者情報!M206,\"\")&IF(B1=3,患者情報!M207,\"\")&IF(B1=4,患者情報!M208,\"\")&IF(B1=5,患者情報!M209,\"\")&IF(B1=6,患者情報!M210,\"\")&IF(B1=7,患者情報!M211,\"\")&IF(B1=1,患者情報!M205,\"\")","v":{"$error":"#VALUE!"}},"左記の共通項目→",{"$f":"IF(選択項目!B7=\"\",患者情報!M204,選択項目!B7)","v":{"$error":"#VALUE!"}}]
["予備",{"$f":"DATE(LEFT(患者情報!G12,4),MID(患者情報!G12,5,2),RIGHT(患者情報!G12,2))","v":{"$error":"#VALUE!"}}]
["生年月日",{"$f":"DATE(LEFT(患者情報!B6,4),MID(患者情報!B6,6,2),RIGHT(患者情報!B6,2))","v":{"$error":"#VALUE!"}}]
["抗凝固剤→",{"$f":"IF(B1=2,患者情報!F206,\"\")&IF(B1=3,患者情報!F207,\"\")&IF(B1=4,患者情報!F208,\"\")&IF(B1=5,患者情報!F209,\"\")&IF(B1=6,患者情報!F210,\"\")&IF(B1=7,患者情報!F211,\"\")&IF(B1=1,患者情報!F205,\"\")","v":{"$error":"#VALUE!"}},"左記の共通項目→",{"$f":"IF(選択項目!B10=\"\",患者情報!F204,選択項目!B10)","v":{"$error":"#VALUE!"}}]
["ワンショット量→",{"$f":"IF(B1=2,患者情報!G206,\"\")&IF(B1=3,患者情報!G207,\"\")&IF(B1=4,患者情報!G208,\"\")&IF(B1=5,患者情報!G209,\"\")&IF(B1=6,患者情報!G210,\"\")&IF(B1=7,患者情報!G211,\"\")&IF(B1=1,患者情報!G205,\"\")","v":{"$error":"#VALUE!"}},"左記の共通項目→",{"$f":"IF(選択項目!B11=\"\",患者情報!G204,選択項目!B11)","v":{"$error":"#VALUE!"}}]
["持続注入量→",{"$f":"IF(B1=2,患者情報!H206,\"\")&IF(B1=3,患者情報!H207,\"\")&IF(B1=4,患者情報!H208,\"\")&IF(B1=5,患者情報!H209,\"\")&IF(B1=6,患者情報!H210,\"\")&IF(B1=7,患者情報!H211,\"\")&IF(B1=1,患者情報!H205,\"\")","v":{"$error":"#VALUE!"}},"左記の共通項目→",{"$f":"IF(選択項目!B12=\"\",患者情報!H204,選択項目!B12)","v":{"$error":"#VALUE!"}}]
["透析液流量→",{"$f":"IF(B1=2,患者情報!Q206,\"\")&IF(B1=3,患者情報!Q207,\"\")&IF(B1=4,患者情報!Q208,\"\")&IF(B1=5,患者情報!Q209,\"\")&IF(B1=6,患者情報!Q210,\"\")&IF(B1=7,患者情報!Q211,\"\")&IF(B1=1,患者情報!Q205,\"\")","v":{"$error":"#VALUE!"}},"左記の共通項目→",{"$f":"IF(選択項目!B13=\"\",患者情報!Q204,選択項目!B13)","v":{"$error":"#VALUE!"}}]

{"sheet":"ExcelOption","index":3,"n_rows":97,"n_cols":17,"rows_kept":97}
["ExcelOption1",null,"1、2=手術ﾃﾞｰﾀを表示sjtdatf3(1の場合は実施分のみ)、3=日付未定分を除いて全て"]
["ExcelOption2",null,"病名の開始日、保険を出力"]
["ExcelOption3",null,"1=入院病名を出力","2=入院予約時の病名も出力(B49)"]
["ExcelOption4",null,"1=退院通知の時点でも退院日を落とす"]
["ExcelOption5",null,"1=透析の情報を出力","2=透析ﾃﾞｰﾀ(N版)を出力"]
["ExcelOption6",null,"1=既往歴の情報を出力"]
["ExcelOption7",null,"1=家族歴の情報を出力"]
["ExcelOption8",null,"1=保険情報を出力"]
["ExcelOption9",null,"1=感染の出力は左詰にしない"]
["ExcelOption10",null,"1=nyukihon出力"]
["ExcelOption11",null,"1=病棟"]
["ExcelOption12",null,"1=介護の情報を出力"]
["ExcelOption13",null,"1=ﾘﾊﾋﾞﾘの情報を出力"]
[]
[]
[]
["ExcelOption17",null,"1=文書依頼の情報を出力"]
["ExcelOption18",null,"1=指示医(B14)の麻薬取扱番号を落とす(C14)"]
["ExcelOption19",null,"1=一番最近の入院形態を落とす(D49)"]
[]
["ExcelOption21",null,"1=外来受付の情報を出力"]
["ExcelOption22",null,"1=病室を部屋番号ではなく部屋名称で表示する"]
["ExcelOption23",null,"1=手帳・年金(srvKanAnnuityMnt)情報を出力する"]
["ExcelOption24",null,"1=患者年表(srvKanjyaNenpyo)の情報を出力する"]
["ExcelOption25",null,"1=入院診療録概要(srvBynSamKy)の情報を出力する"]
["ExcelOption26",null,"1=紹介ｻｰﾊﾞｰから以外から呼び出された場合に最新の紹介情報を出力する(紹介ｻｰﾊﾞｰから呼ばれた場合はこれまでどおり渡されたキーの情報を出力)"]
["ExcelOption27",null,"1=診療予約(srvBotan)の情報を出力する"]
["ExcelOption28",null,"1=検査予約日を出力"]
["ExcelOption29",null,"1=主保険番号を施設ごとの主保険番号(kanhkntbl)からとる"]
["ExcelOption30",null,"1=NST(srvNSTInp)の情報を出力"]
["ExcelOption31",null,"1=検査結果を出力(Kansub2の区分60の受付日、受付NoからINI指定した検査項目の結果のみ)"]
["ExcelOption32",null,"1=入院情報(詳細版)を出力する 2=入院中の時には、現在の入院の詳細情報を、入院外の時には、次回の入院予約から情報を出力。3=入院中の時には、現在の入院の詳細情報を出力する。<ただし、入院中でも次回の入院予約がある場合には、次回の入院予約から情報を出力。>"]
["ExcelOption33",null,"1=新クリティカルパスの情報を出力する(現在適用中のもののみ)"]
["ExcelOption34",null,"1=抗がん剤プロトコールの情報を出力する(現在適用中のもののみ)"]
["ExcelOption35",null,"1=褥瘡(srvJyokusouPlanInp)の情報を出力する"]
["ExcelOption36",null,"1=歯科病名(srvBknSik)を出力する 2=新歯科病名(srvBknSikN)を出力する"]
["ExcelOption37",null,"1=分娩(srvObgyHdMnt)の情報を出力"]
[]
["ExcelOption39",null,"1=DPC入院情報(srvDpcNyuMnt)を出力"]
["ExcelOption40",null,"1=輸血依頼情報(srvBtIraiInp)を出力"]
["ExcelOption41",null,"1=退院日(C18、C19)と結びついた転帰を落とす(I18、I19)"]
["ExcelOption42",null,"1=レンタル情報(srvRentalLst2)を出力"]
["ExcelOption43",null,"1=病名を100byte分取得する"]
["ExcelOption44",null,"1=栄養指導依頼情報(srvEysIrai)を出力"]
["ExcelOption45",null,"1=ExcelOption1>0の場合にsjtdatf3sub4のﾃﾞｰﾀを出力する"]
["ExcelOption46",null,"1=未収額を出力する"]
["ExcelOption47",null,"1=選定療養起算日/日数に関して退院後でも出力する"]
["ExcelOption48",null,"1=健診会員マスタ情報"]
["ExcelOption49",null,"1=自賠患者マスタ情報"]
["ExcelOption50",null,"1=一般・療養病棟の入院日と退院日を出力する"]
["ExcelOption51",null,"禁忌情報の出力方法(Def 0:Kansubfから取得、1:KanKinkiHd(Dat)から取得)"]
["ExcelOption52",null,"回復期リハビリ患者メンテ情報(Def 0:出力しない、1:出力する)"]
[]
["ExcelOption54",null,"最終来院日を診療科ｺｰﾄﾞ01～99を出力する(※存在しない診療科も出力します)"]
["ExcelOption55",null,"1=腹囲を出力する"]
["ExcelOption56",null,"ｱｿｼｴｰﾄﾅｰｽを出力する(0:落とさない、1:KanSub2から取得、2:KanSub3から取得(期限切れの担当者も含む)、3:KanSub3から取得(文書作成日に期限切れの担当者は含まない) 、ExcelOption56=2 or 3のときにKanSub3が見つからない場合は、KanSub2を取得します(※要 Newton.ini、[srvKanInf]、KanSubHistFlg=1))"]
["ExcelOption57",null,"1=KanKinkiHd(Dat)から取得するアレルギーを出力する"]
["ExcelOption58",null,"共通区分(kanmf.jidokb1)を出力する(L70)"]
["ExcelOption59",null,"ユーザ区分(kanmf.jidokb2)を出力する(L71)"]
["ExcelOption60",null,"1=リハビリ指導依頼情報(srvRihaIrai)を出力"]
["ExcelOption61",null,"1:亜急性期情報を出力"]
["ExcelOption62",null,"禁忌情報の出力方法２：禁忌情報出力設定(ExcelOption51)の出力位置26とは別に出力位置980にデータを出力する設定"]
["ExcelOption63",null,"眼科データ(コンタクトレンズ)を出力する[A1001～A1004](0:しない<Def>"," 1:する(直近データ))"]
["ExcelOption64",null,"栄養管理加算"]
["ExcelOption65",null,"転棟情報(A861-A863～"]
["ExcelOption66",null,"救急情報(A551～"]
["ExcelOption67",null,"加算部屋情報(特定集中治療管理料とハイケアユニット入院医療管理料)"]
["ExcelOption68",null,"治験情報"]
["ExcelOption69",null,"リハビリ評価情報"]
["ExcelOption70",null,"身長、体重歴"]
["ExcelOption71",null,"介護福祉士 B921～(0:落とさない、1:KanSub2から取得、2:KanSub3から取得(期限切れの担当者も含む)、3:KanSub3から取得(文書作成日に期限切れの担当者は含まない) 、ExcelOption71=2 or 3のときにKanSub3が見つからない場合は、KanSub2を取得します(※要 Newton.ini、[srvKanInf]、KanSubHistFlg=1))"]
["ExcelOption72",null,"管理栄養士 B922～(0:落とさない、1:KanSub2から取得、2:KanSub3から取得(期限切れの担当者も含む)、3:KanSub3から取得(文書作成日に期限切れの担当者は含まない) 、ExcelOption72=2 or 3のときにKanSub3が見つからない場合は、KanSub2を取得します(※要 Newton.ini、[srvKanInf]、KanSubHistFlg=1))"]
["ExcelOption73",null,"介護福祉士 B1200～(開始日終了日あり)(0:落とさない、1:KanSub3から取得(開始日終了日あり、期限切れの担当者も含む、KanSub2は取得しない)、2:KanSub3から取得(開始日終了日あり、期限切れの担当者も含む)、3:KanSub3から取得(開始日終了日あり、文書作成日に期限切れの担当者は含まない) 、ExcelOption73=2 or 3のときにKanSub3が見つからない場合は、KanSub2を取得します(※要 Newton.ini、[srvKanInf]、KanSubHistFlg=1))"]
["ExcelOption74",null,"1:血糖値の結果を落とす B1150～"]
["ExcelOption75",null,"携帯電話情報:B86 0:出さない　1:一つだけ出す　Seqno=01の物　2:複数の携帯電話番号を表示する",null,"Fax:D86 0:出さない　1:一つだけ出す　Seqno=01の物　2:複数の表示する",null,"ﾒｰﾙ:F86 0:出さない　1:一つだけ出す　Seqno=01の物　2:複数の表示する",null,"本籍:H86 0:出さない　1:一つだけ出す　Seqno=01の物　2:複数の表示する",null,"出生地:J86 0:出さない　1:一つだけ出す　Seqno=01の物　2:複数の表示する",null,"名前:L86 0:出さない　1:一つだけ出す　Seqno=01の物　2:複数の表示する",null,"請求先:M86～V86 0:出さない　1:一つだけ出す　Seqno=01の物　2:複数の表示する",null,"連絡先(一括入力):1611～1616行目 0:出さない　1:一つだけ出す　Seqno=01の物　2:複数の表示する"]
["ExcelOption76"]
["ExcelOption77",null,"1:患者情報コメントを落とす　B87～B93"]
[]
["ExcelOption79",null,"1=医療相談依頼情報(srvSoudanIrai)を出力(B1452～) "]
["ExcelOption80",null,"1=文書新規作成処理をVer.3.0.490以前に戻す（Excel2003でエラーが出る問題は改善されますが、新規作成処理が遅くなります）"]
["ExcelOption81",null,"PSWをB1205～に落とす(0:落とさない、1:KanSub2から取得、2:KanSub3から取得(開始日終了日あり、期限切れの担当者も含む)、3:KanSub3から取得(開始日終了日あり、文書作成日に期限切れの担当者は含まない) 、ExcelOption81=2 or 3のときにKanSub3が見つからない場合は、KanSub2を取得します(※要 Newton.ini、[srvKanInf]、KanSubHistFlg=1))"]
["ExcelOption82",null,"1=患者情報<srvKanInfEpr>と同じ表記方法の年齢を出力する(C8～C11)"]
["ExcelOption83",null,"1=居宅介護支援（srvMapleMntN）データを出力する(A1502～)"]
["ExcelOption84",null,"1=KanKinkiHd(Dat)から取得する感染症を出力する"]
["ExcelOption85",null,"患者情報シートB9セル（性別(M,F)）に出力する性別情報の書式(def 0:全角文字(Ｍ,Ｆ)　1:半角文字(M,F)　2:数字(1:男性,3:女性))"]
["ExcelOption86",null,"1=指示医、主治医、医師 サブ１～３、担当医、入院主治医のカナ氏名とローマ字を出力する"]
["ExcelOption87",null,"入院形態の通知日を出力する(1:一般入院の情報は出力しない 2:一般入院の情報も出力する)"]
["ExcelOption88",null,"担当看護師(B20)、MSW(B62)、薬剤指導担当者(B75)の項目の取得方法を変更する(0:KanSub2から取得、1:KanSub3から取得(期限切れの担当者も含む)、2:KanSub3から取得(文書作成日に期限切れの担当者は含まない) 、ExcelOption88=1 or 2のときにKanSub3が見つからない場合は、KanSub2を取得します(※要 Newton.ini、[srvKanInf]、KanSubHistFlg=1))"]
["ExcelOption89",null,"退院支援相談員をB1210～に落とす(0:落とさない、1:KanSub2から取得、2:KanSub3から取得(開始日終了日あり、期限切れの担当者も含む)、3:KanSub3から取得(開始日終了日あり、文書作成日に期限切れの担当者は含まない) 、ExcelOption89=2 or 3のときにKanSub3が見つからない場合は、KanSub2を取得します(※要 Newton.ini、[srvKanInf]、KanSubHistFlg=1))"]
["ExcelOption90",null,"退院後生活環境相談員をB1215～に落とす(0:落とさない、1:KanSub2から取得、2:KanSub3から取得(開始日終了日あり、期限切れの担当者も含む)、3:KanSub3から取得(開始日終了日あり、文書作成日に期限切れの担当者は含まない) 、ExcelOption90=2 or 3のときにKanSub3が見つからない場合は、KanSub2を取得します(※要 Newton.ini、[srvKanInf]、KanSubHistFlg=1))"]
["ExcelOption91",null,"1=文書を新規作成する前に原本ファイルの患者情報シートをクリアする"]
["ExcelOption92"]
["ExcelOption93",null,"医療保護入院同意者を1220～1227行に落とす(0:落とさない 1:期限切れの担当者も含む 2:文書作成日に期限切れの担当者は含まない)"]
["ExcelOption94",null,"最新の主訴・現病歴・生活歴とデータの日時・診療科を引用（1692行目）(1:全診療科から最新のデータを引用する 2:指定診療科の最新のデータを引用する（診療科未指定の場合には全科から最新データを引用）)"]
["ExcelOption95",null,"難病指定医番号(1700～1702行目)・精神保健指定医番号(1705行目～1707行目)を出力する(0:出力しない、1:出力する(期限切れの番号も含む)、2:出力する(期限切れの番号は含まない))"]
["ExcelOption96",null,"拡張担当医を出力するか(0:出力しない<DEF>、1:出力する(期限切れの担当医も含む)、2:出力する(期限切れの担当医は含まない))"]
["ExcelOption97",1,"1=SSI_QRCodeXXX_YオブジェクトにQRコードを表示する(ExcelOption76_XXX設定は無効になる)"]